Workbook

Sheet Áttekintés
A1: Áttekintés – 7 ETF, havi 15 000 Ft Lightyear-en 2020 januárjától
A2: Szűrés: gyűjtő · 1 év > 20% · 3 év > 70% · nem USA-túlsúlyos · TER < 0,5% · Lightyear EU-n elérhető.
A4: Ticker | B4: ETF | C4: Kategória | D4: TER | E4: Alapméret (M EUR) | F4: Befizetés kezdete | G4: Hónapok | H4: Összes befizetés (Ft) | I4: Mai érték (Ft) | J4: Nyereség (Ft) | K4: Összes hozam | L4: Éves hozam (XIRR) | M4: Max. visszaesés 5 év | N4: Becsült adó (Ft) | O4: Adózás utáni nyereség (Ft)
A5: ESIF | B5: iShares MSCI Europe Financials Sector UCITS ETF EUR (Acc) | C5: Európai pénzügyi szektor | D5: 0.0018 | E5: 647 | F5: ='Modell ESIF'!S5 -> 44136 | G5: ='Modell ESIF'!S6 -> 72 | H5: ='Modell ESIF'!S7 -> 1080000 | I5: ='Modell ESIF'!S8 -> 2135513.9 | J5: ='Modell ESIF'!S9 -> 1055513.9 | K5: ='Modell ESIF'!S10 -> 0.97732772 | L5: ='Modell ESIF'!S11 -> 0.22895865 | M5: -0.2294 | N5: ='Modell ESIF'!S13 -> 295543.9 | O5: ='Modell ESIF'!S14 -> 759970.04
A6: 84X0 | B6: iShares MSCI EM ex-China UCITS ETF USD (Acc) | C6: Feltörekvő piacok Kína nélkül | D6: 0.0018 | E6: 4864 | F6: ='Modell 84X0'!S5 -> 44287 | G6: ='Modell 84X0'!S6 -> 67 | H6: ='Modell 84X0'!S7 -> 1005000 | I6: ='Modell 84X0'!S8 -> 1574911.2 | J6: ='Modell 84X0'!S9 -> 569911.25 | K6: ='Modell 84X0'!S10 -> 0.56707587 | L6: ='Modell 84X0'!S11 -> 0.16227635 | M6: -0.1954 | N6: ='Modell 84X0'!S13 -> 159575.15 | O6: ='Modell 84X0'!S14 -> 410336.1
A7: BRNT | B7: WisdomTree Brent Crude Oil | C7: Brent kőolaj (határidős) | D7: 0.0049 | E7: 968 | F7: ='Modell BRNT'!S5 -> 43831 | G7: ='Modell BRNT'!S6 -> 82 | H7: ='Modell BRNT'!S7 -> 1230000 | I7: ='Modell BRNT'!S8 -> 3365058.1 | J7: ='Modell BRNT'!S9 -> 2135058.1 | K7: ='Modell BRNT'!S10 -> 1.7358196 | L7: ='Modell BRNT'!S11 -> 0.29379401 | M7: -0.3371 | N7: ='Modell BRNT'!S13 -> 597816.26 | O7: ='Modell BRNT'!S14 -> 1537241.8
A8: SXR2 | B8: iShares MSCI Canada UCITS ETF (Acc) | C8: Kanada | D8: 0.0048 | E8: 2031 | F8: ='Modell SXR2'!S5 -> 43831 | G8: ='Modell SXR2'!S6 -> 82 | H8: ='Modell SXR2'!S7 -> 1230000 | I8: ='Modell SXR2'!S8 -> 2069675.6 | J8: ='Modell SXR2'!S9 -> 839675.64 | K8: ='Modell SXR2'!S10 -> 0.68266312 | L8: ='Modell SXR2'!S11 -> 0.15142984 | M8: -0.1764 | N8: ='Modell SXR2'!S13 -> 235109.18 | O8: ='Modell SXR2'!S14 -> 604566.46
A9: CEMS | B9: iShares Edge MSCI Europe Value Factor UCITS ETF | C9: Európai érték (value) részvények | D9: 0.0025 | E9: 2516 | F9: ='Modell CEMS'!S5 -> 43831 | G9: ='Modell CEMS'!S6 -> 82 | H9: ='Modell CEMS'!S7 -> 1230000 | I9: ='Modell CEMS'!S8 -> 2134240.3 | J9: ='Modell CEMS'!S9 -> 904240.29 | K9: ='Modell CEMS'!S10 -> 0.73515471 | L9: ='Modell CEMS'!S11 -> 0.16036652 | M9: -0.1935 | N9: ='Modell CEMS'!S13 -> 253187.28 | O9: ='Modell CEMS'!S14 -> 651053.01
A10: CEBL | B10: iShares MSCI EM Asia UCITS ETF (Acc) | C10: Feltörekvő Ázsia | D10: 0.002 | E10: 7466 | F10: ='Modell CEBL'!S5 -> 43831 | G10: ='Modell CEBL'!S6 -> 82 | H10: ='Modell CEBL'!S7 -> 1230000 | I10: ='Modell CEBL'!S8 -> 1816224.3 | J10: ='Modell CEBL'!S9 -> 586224.33 | K10: ='Modell CEBL'!S10 -> 0.47660514 | L10: ='Modell CEBL'!S11 -> 0.11346363 | M10: -0.2709 | N10: ='Modell CEBL'!S13 -> 164142.81 | O10: ='Modell CEBL'!S14 -> 422081.51
A11: EUNM | B11: iShares MSCI EM UCITS ETF (Acc) | C11: Feltörekvő piacok (globális) | D11: 0.0018 | E11: 9211 | F11: ='Modell EUNM'!S5 -> 43831 | G11: ='Modell EUNM'!S6 -> 82 | H11: ='Modell EUNM'!S7 -> 1230000 | I11: ='Modell EUNM'!S8 -> 1802179.1 | J11: ='Modell EUNM'!S9 -> 572179.06 | K11: ='Modell EUNM'!S10 -> 0.46518623 | L11: ='Modell EUNM'!S11 -> 0.11120841 | M11: -0.2317 | N11: ='Modell EUNM'!S13 -> 160210.14 | O11: ='Modell EUNM'!S14 -> 411968.92
A12: Összesen | B12: (ha mind a 7-be havi 15 000 Ft ment volna) | H12: =SUM(H5:H11) -> 8235000 | I12: =SUM(I5:I11) -> 14897803 | J12: =SUM(J5:J11) -> 6662802.6 | K12: =J12/H12 -> 0.80908349 | N12: =SUM(N5:N11) -> 1865584.7 | O12: =SUM(O5:O11) -> 4797217.8
A34: Fontos: a BRNT nem részvény-ETF, hanem olaj határidős ETC (megbízásonként 1 € díj, nagyon nagy ingadozás). Az 84X0, a CEBL és az EUNM kb. 80%-ban ugyanazokat a cégeket tartja.
A35: Múltbeli hozam nem garantálja a jövőbeli eredményt. Ez a munkafüzet tájékoztató modell, nem befektetési tanácsadás.

Sheet ETF adatlap
A1: ETF adatlap – válaszd ki az ETF-et a sárga cellában
A2: A lenyíló listából bármelyik ETF kiválasztható; minden adat automatikusan frissül.
A4: Kiválasztott ETF: | B4: ESIF – Európai pénzügyi szektor
A6: Alapadatok | D6: Kockázati mutatók (EUR-ban)
A7: Teljes név | B7: =INDEX(Adatbázis!$C$5:$C$11,MATCH($B$4,Adatbázis!$A$5:$A$11,0)) -> iShares MSCI Europe Financials Sector UCITS ETF EUR (Acc) | D7: Volatilitás 1 év | E7: =INDEX(Adatbázis!$T$5:$T$11,MATCH($B$4,Adatbázis!$A$5:$A$11,0)) -> 0.177
A8: ISIN | B8: =INDEX(Adatbázis!$D$5:$D$11,MATCH($B$4,Adatbázis!$A$5:$A$11,0)) -> IE00BMW42306 | D8: Volatilitás 3 év | E8: =INDEX(Adatbázis!$U$5:$U$11,MATCH($B$4,Adatbázis!$A$5:$A$11,0)) -> 0.1622
A9: Lightyear ticker (Xetra, EUR) | B9: =INDEX(Adatbázis!$B$5:$B$11,MATCH($B$4,Adatbázis!$A$5:$A$11,0)) -> ESIF | D9: Volatilitás 5 év | E9: =INDEX(Adatbázis!$V$5:$V$11,MATCH($B$4,Adatbázis!$A$5:$A$11,0)) -> 0.1824
A10: Típus | B10: =INDEX(Adatbázis!$F$5:$F$11,MATCH($B$4,Adatbázis!$A$5:$A$11,0)) -> ETF (részvény) | D10: Max. visszaesés 1 év | E10: =INDEX(Adatbázis!$W$5:$W$11,MATCH($B$4,Adatbázis!$A$5:$A$11,0)) -> -0.1212
A11: Követett index | B11: =INDEX(Adatbázis!$G$5:$G$11,MATCH($B$4,Adatbázis!$A$5:$A$11,0)) -> MSCI Europe Financials 20/35 Capped | D11: Max. visszaesés 3 év | E11: =INDEX(Adatbázis!$X$5:$X$11,MATCH($B$4,Adatbázis!$A$5:$A$11,0)) -> -0.1681
A12: Befektetési fókusz | B12: =INDEX(Adatbázis!$H$5:$H$11,MATCH($B$4,Adatbázis!$A$5:$A$11,0)) -> Részvény · Európa · Pénzügyi szektor | D12: Max. visszaesés 5 év | E12: =INDEX(Adatbázis!$Y$5:$Y$11,MATCH($B$4,Adatbázis!$A$5:$A$11,0)) -> -0.2294
A13: Alapkezelő | B13: =INDEX(Adatbázis!$O$5:$O$11,MATCH($B$4,Adatbázis!$A$5:$A$11,0)) -> iShares (BlackRock) | D13: Max. visszaesés indulás óta | E13: =INDEX(Adatbázis!$Z$5:$Z$11,MATCH($B$4,Adatbázis!$A$5:$A$11,0)) -> -0.2294
A14: Indulás dátuma | B14: =INDEX(Adatbázis!$M$5:$M$11,MATCH($B$4,Adatbázis!$A$5:$A$11,0)) -> 44153
A15: Székhely | B15: =INDEX(Adatbázis!$N$5:$N$11,MATCH($B$4,Adatbázis!$A$5:$A$11,0)) -> Írország | D15: Modell: havi 15 000 Ft 2020-tól (vagy az indulástól)
A16: Alapméret (M EUR) | B16: =INDEX(Adatbázis!$I$5:$I$11,MATCH($B$4,Adatbázis!$A$5:$A$11,0)) -> 647 | D16: Összes befizetés (Ft) | E16: =INDEX(Áttekintés!$H$5:$H$11,MATCH(INDEX(Adatbázis!$B$5:$B$11,MATCH($B$4,Adatbázis!$A$5:$A$11,0)),Áttekintés!$A$5:$A$11,0)) -> 1080000
A17: Éves költség (TER) | B17: =INDEX(Adatbázis!$J$5:$J$11,MATCH($B$4,Adatbázis!$A$5:$A$11,0)) -> 0.0018 | D17: Mai érték (Ft) | E17: =INDEX(Áttekintés!$I$5:$I$11,MATCH(INDEX(Adatbázis!$B$5:$B$11,MATCH($B$4,Adatbázis!$A$5:$A$11,0)),Áttekintés!$A$5:$A$11,0)) -> 2135513.9
A18: Alap devizája | B18: =INDEX(Adatbázis!$K$5:$K$11,MATCH($B$4,Adatbázis!$A$5:$A$11,0)) -> EUR | D18: Nyereség (Ft) | E18: =INDEX(Áttekintés!$J$5:$J$11,MATCH(INDEX(Adatbázis!$B$5:$B$11,MATCH($B$4,Adatbázis!$A$5:$A$11,0)),Áttekintés!$A$5:$A$11,0)) -> 1055513.9
A19: Devizafedezés | B19: =INDEX(Adatbázis!$L$5:$L$11,MATCH($B$4,Adatbázis!$A$5:$A$11,0)) -> Nincs devizafedezés | D19: Összes hozam | E19: =INDEX(Áttekintés!$K$5:$K$11,MATCH(INDEX(Adatbázis!$B$5:$B$11,MATCH($B$4,Adatbázis!$A$5:$A$11,0)),Áttekintés!$A$5:$A$11,0)) -> 0.97732772
A20: Replikáció | B20: =INDEX(Adatbázis!$P$5:$P$11,MATCH($B$4,Adatbázis!$A$5:$A$11,0)) -> Fizikai (indexkövető) | D20: Éves hozam (XIRR) | E20: =INDEX(Áttekintés!$L$5:$L$11,MATCH(INDEX(Adatbázis!$B$5:$B$11,MATCH($B$4,Adatbázis!$A$5:$A$11,0)),Áttekintés!$A$5:$A$11,0)) -> 0.22895865
A21: Értékpapír-kölcsönzés | B21: =INDEX(Adatbázis!$Q$5:$Q$11,MATCH($B$4,Adatbázis!$A$5:$A$11,0)) -> Nem | D21: Adózás utáni nyereség (Ft) | E21: =INDEX(Áttekintés!$O$5:$O$11,MATCH(INDEX(Adatbázis!$B$5:$B$11,MATCH($B$4,Adatbázis!$A$5:$A$11,0)),Áttekintés!$A$5:$A$11,0)) -> 759970.04
A22: Tartott papírok száma | B22: =INDEX(Adatbázis!$R$5:$R$11,MATCH($B$4,Adatbázis!$A$5:$A$11,0)) -> 85
A23: Top 10 súlya | B23: =INDEX(Adatbázis!$S$5:$S$11,MATCH($B$4,Adatbázis!$A$5:$A$11,0)) -> 0.45
A24: Lightyear díj | B24: =INDEX(Adatbázis!$AD$5:$AD$11,MATCH($B$4,Adatbázis!$A$5:$A$11,0)) -> Díjmentes vétel, 0,35% devizaváltás
A25: Elérhető Lightyear EU-n | B25: =INDEX(Adatbázis!$AE$5:$AE$11,MATCH($B$4,Adatbázis!$A$5:$A$11,0)) -> Igen (Lightyear Europe AS)
A27: Mibe fektet?
A28: =INDEX(Adatbázis!$AA$5:$AA$11,MATCH($B$4,Adatbázis!$A$5:$A$11,0)) -> Európai nagy- és közepes bankok, biztosítók és pénzügyi szolgáltatók részvényei (85 cég). A legnagyobb tétel súlya legfeljebb 35%, a többié legfeljebb 20%.
A30: Főbb jellemzők
A31: =INDEX(Adatbázis!$AB$5:$AB$11,MATCH($B$4,Adatbázis!$A$5:$A$11,0)) -> Szektor-ETF: szinte 100% pénzügy. Bankok profitja erősen függ a kamatszinttől és a hozamgörbétől. Erős osztalék- és sajátrészvény-visszavásárlási hullám 2023–2026 között. Euróban jegyzett, így nincs EUR/USD kockázat (de a brit és svájci részvények miatt van GBP/CHF kitettség).
A33: Fő kockázatok
A34: =INDEX(Adatbázis!$AC$5:$AC$11,MATCH($B$4,Adatbázis!$A$5:$A$11,0)) -> Kamatcsökkentés szűkíti a bankok kamatmarzsát; recesszióban nőnek a hitelveszteségek; bankválság-fertőzés (pl. 2023 márciusi Credit Suisse eset); banki különadók; szektorkoncentráció.
A37: Top 10 tétel | B37: Súly | D37: Országok | E37: Súly
A38: =IFERROR(INDEX(Adatbázis!$E$15:$E$132,MATCH(INDEX(Adatbázis!$B$5:$B$11,MATCH($B$4,Adatbázis!$A$5:$A$11,0))&"-H1",Adatbázis!$A$15:$A$132,0)),"") -> HSBC Holdings Plc | B38: =IFERROR(INDEX(Adatbázis!$F$15:$F$132,MATCH(INDEX(Adatbázis!$B$5:$B$11,MATCH($B$4,Adatbázis!$A$5:$A$11,0))&"-H1",Adatbázis!$A$15:$A$132,0)),"") -> 0.0959 | D38: =IFERROR(INDEX(Adatbázis!$E$15:$E$132,MATCH(INDEX(Adatbázis!$B$5:$B$11,MATCH($B$4,Adatbázis!$A$5:$A$11,0))&"-C1",Adatbázis!$A$15:$A$132,0)),"") -> Egyesült Királyság | E38: =IFERROR(INDEX(Adatbázis!$F$15:$F$132,MATCH(INDEX(Adatbázis!$B$5:$B$11,MATCH($B$4,Adatbázis!$A$5:$A$11,0))&"-C1",Adatbázis!$A$15:$A$132,0)),"") -> 0.2297
A39: =IFERROR(INDEX(Adatbázis!$E$15:$E$132,MATCH(INDEX(Adatbázis!$B$5:$B$11,MATCH($B$4,Adatbázis!$A$5:$A$11,0))&"-H2",Adatbázis!$A$15:$A$132,0)),"") -> Banco Santander SA | B39: =IFERROR(INDEX(Adatbázis!$F$15:$F$132,MATCH(INDEX(Adatbázis!$B$5:$B$11,MATCH($B$4,Adatbázis!$A$5:$A$11,0))&"-H2",Adatbázis!$A$15:$A$132,0)),"") -> 0.0565 | D39: =IFERROR(INDEX(Adatbázis!$E$15:$E$132,MATCH(INDEX(Adatbázis!$B$5:$B$11,MATCH($B$4,Adatbázis!$A$5:$A$11,0))&"-C2",Adatbázis!$A$15:$A$132,0)),"") -> Spanyolország | E39: =IFERROR(INDEX(Adatbázis!$F$15:$F$132,MATCH(INDEX(Adatbázis!$B$5:$B$11,MATCH($B$4,Adatbázis!$A$5:$A$11,0))&"-C2",Adatbázis!$A$15:$A$132,0)),"") -> 0.1245
A40: =IFERROR(INDEX(Adatbázis!$E$15:$E$132,MATCH(INDEX(Adatbázis!$B$5:$B$11,MATCH($B$4,Adatbázis!$A$5:$A$11,0))&"-H3",Adatbázis!$A$15:$A$132,0)),"") -> Allianz SE | B40: =IFERROR(INDEX(Adatbázis!$F$15:$F$132,MATCH(INDEX(Adatbázis!$B$5:$B$11,MATCH($B$4,Adatbázis!$A$5:$A$11,0))&"-H3",Adatbázis!$A$15:$A$132,0)),"") -> 0.0537 | D40: =IFERROR(INDEX(Adatbázis!$E$15:$E$132,MATCH(INDEX(Adatbázis!$B$5:$B$11,MATCH($B$4,Adatbázis!$A$5:$A$11,0))&"-C3",Adatbázis!$A$15:$A$132,0)),"") -> Németország | E40: =IFERROR(INDEX(Adatbázis!$F$15:$F$132,MATCH(INDEX(Adatbázis!$B$5:$B$11,MATCH($B$4,Adatbázis!$A$5:$A$11,0))&"-C3",Adatbázis!$A$15:$A$132,0)),"") -> 0.124
A41: =IFERROR(INDEX(Adatbázis!$E$15:$E$132,MATCH(INDEX(Adatbázis!$B$5:$B$11,MATCH($B$4,Adatbázis!$A$5:$A$11,0))&"-H4",Adatbázis!$A$15:$A$132,0)),"") -> UBS Group AG | B41: =IFERROR(INDEX(Adatbázis!$F$15:$F$132,MATCH(INDEX(Adatbázis!$B$5:$B$11,MATCH($B$4,Adatbázis!$A$5:$A$11,0))&"-H4",Adatbázis!$A$15:$A$132,0)),"") -> 0.046 | D41: =IFERROR(INDEX(Adatbázis!$E$15:$E$132,MATCH(INDEX(Adatbázis!$B$5:$B$11,MATCH($B$4,Adatbázis!$A$5:$A$11,0))&"-C4",Adatbázis!$A$15:$A$132,0)),"") -> Svájc | E41: =IFERROR(INDEX(Adatbázis!$F$15:$F$132,MATCH(INDEX(Adatbázis!$B$5:$B$11,MATCH($B$4,Adatbázis!$A$5:$A$11,0))&"-C4",Adatbázis!$A$15:$A$132,0)),"") -> 0.1146
A42: =IFERROR(INDEX(Adatbázis!$E$15:$E$132,MATCH(INDEX(Adatbázis!$B$5:$B$11,MATCH($B$4,Adatbázis!$A$5:$A$11,0))&"-H5",Adatbázis!$A$15:$A$132,0)),"") -> Banco Bilbao Vizcaya Argentaria SA | B42: =IFERROR(INDEX(Adatbázis!$F$15:$F$132,MATCH(INDEX(Adatbázis!$B$5:$B$11,MATCH($B$4,Adatbázis!$A$5:$A$11,0))&"-H5",Adatbázis!$A$15:$A$132,0)),"") -> 0.0437 | D42: =IFERROR(INDEX(Adatbázis!$E$15:$E$132,MATCH(INDEX(Adatbázis!$B$5:$B$11,MATCH($B$4,Adatbázis!$A$5:$A$11,0))&"-C5",Adatbázis!$A$15:$A$132,0)),"") -> Egyéb | E42: =IFERROR(INDEX(Adatbázis!$F$15:$F$132,MATCH(INDEX(Adatbázis!$B$5:$B$11,MATCH($B$4,Adatbázis!$A$5:$A$11,0))&"-C5",Adatbázis!$A$15:$A$132,0)),"") -> 0.4072
A43: =IFERROR(INDEX(Adatbázis!$E$15:$E$132,MATCH(INDEX(Adatbázis!$B$5:$B$11,MATCH($B$4,Adatbázis!$A$5:$A$11,0))&"-H6",Adatbázis!$A$15:$A$132,0)),"") -> UniCredit SpA | B43: =IFERROR(INDEX(Adatbázis!$F$15:$F$132,MATCH(INDEX(Adatbázis!$B$5:$B$11,MATCH($B$4,Adatbázis!$A$5:$A$11,0))&"-H6",Adatbázis!$A$15:$A$132,0)),"") -> 0.0357
A44: =IFERROR(INDEX(Adatbázis!$E$15:$E$132,MATCH(INDEX(Adatbázis!$B$5:$B$11,MATCH($B$4,Adatbázis!$A$5:$A$11,0))&"-H7",Adatbázis!$A$15:$A$132,0)),"") -> BNP Paribas SA | B44: =IFERROR(INDEX(Adatbázis!$F$15:$F$132,MATCH(INDEX(Adatbázis!$B$5:$B$11,MATCH($B$4,Adatbázis!$A$5:$A$11,0))&"-H7",Adatbázis!$A$15:$A$132,0)),"") -> 0.0319 | D44: Szektorok | E44: Súly
A45: =IFERROR(INDEX(Adatbázis!$E$15:$E$132,MATCH(INDEX(Adatbázis!$B$5:$B$11,MATCH($B$4,Adatbázis!$A$5:$A$11,0))&"-H8",Adatbázis!$A$15:$A$132,0)),"") -> Intesa Sanpaolo SpA | B45: =IFERROR(INDEX(Adatbázis!$F$15:$F$132,MATCH(INDEX(Adatbázis!$B$5:$B$11,MATCH($B$4,Adatbázis!$A$5:$A$11,0))&"-H8",Adatbázis!$A$15:$A$132,0)),"") -> 0.03 | D45: =IFERROR(INDEX(Adatbázis!$E$15:$E$132,MATCH(INDEX(Adatbázis!$B$5:$B$11,MATCH($B$4,Adatbázis!$A$5:$A$11,0))&"-S1",Adatbázis!$A$15:$A$132,0)),"") -> Pénzügy | E45: =IFERROR(INDEX(Adatbázis!$F$15:$F$132,MATCH(INDEX(Adatbázis!$B$5:$B$11,MATCH($B$4,Adatbázis!$A$5:$A$11,0))&"-S1",Adatbázis!$A$15:$A$132,0)),"") -> 0.9793
A46: =IFERROR(INDEX(Adatbázis!$E$15:$E$132,MATCH(INDEX(Adatbázis!$B$5:$B$11,MATCH($B$4,Adatbázis!$A$5:$A$11,0))&"-H9",Adatbázis!$A$15:$A$132,0)),"") -> Zurich Insurance Group AG | B46: =IFERROR(INDEX(Adatbázis!$F$15:$F$132,MATCH(INDEX(Adatbázis!$B$5:$B$11,MATCH($B$4,Adatbázis!$A$5:$A$11,0))&"-H9",Adatbázis!$A$15:$A$132,0)),"") -> 0.0292 | D46: =IFERROR(INDEX(Adatbázis!$E$15:$E$132,MATCH(INDEX(Adatbázis!$B$5:$B$11,MATCH($B$4,Adatbázis!$A$5:$A$11,0))&"-S2",Adatbázis!$A$15:$A$132,0)),"") -> Technológia | E46: =IFERROR(INDEX(Adatbázis!$F$15:$F$132,MATCH(INDEX(Adatbázis!$B$5:$B$11,MATCH($B$4,Adatbázis!$A$5:$A$11,0))&"-S2",Adatbázis!$A$15:$A$132,0)),"") -> 0.0145
A47: =IFERROR(INDEX(Adatbázis!$E$15:$E$132,MATCH(INDEX(Adatbázis!$B$5:$B$11,MATCH($B$4,Adatbázis!$A$5:$A$11,0))&"-H10",Adatbázis!$A$15:$A$132,0)),"") -> ING Groep NV | B47: =IFERROR(INDEX(Adatbázis!$F$15:$F$132,MATCH(INDEX(Adatbázis!$B$5:$B$11,MATCH($B$4,Adatbázis!$A$5:$A$11,0))&"-H10",Adatbázis!$A$15:$A$132,0)),"") -> 0.0274 | D47: =IFERROR(INDEX(Adatbázis!$E$15:$E$132,MATCH(INDEX(Adatbázis!$B$5:$B$11,MATCH($B$4,Adatbázis!$A$5:$A$11,0))&"-S3",Adatbázis!$A$15:$A$132,0)),"") -> Nem vállalati | E47: =IFERROR(INDEX(Adatbázis!$F$15:$F$132,MATCH(INDEX(Adatbázis!$B$5:$B$11,MATCH($B$4,Adatbázis!$A$5:$A$11,0))&"-S3",Adatbázis!$A$15:$A$132,0)),"") -> 0.0016
...

Sheet Éves összesítő
A1: Évről évre: hogyan alakult volna a befektetés
A2: Év végi állapot (december, 2026-ban a mai érték). Minden szám képlettel a Modell lapokból.
A4: ESIF – iShares MSCI Europe Financials Sector UCITS ETF EUR (Acc)
A5: Év | B5: Befizetés az évben (Ft) | C5: Összes befizetés év végén (Ft) | D5: Érték év végén (Ft) | E5: Nyereség (Ft) | F5: Összes hozam | G5: ETF árfolyamváltozás az évben (EUR) | H5: Forint/euró változás az évben
A6: 2020 | B6: =SUM('Modell ESIF'!C5:C6) -> 30000 | C6: ='Modell ESIF'!K6 -> 30000 | D6: ='Modell ESIF'!J6*'Modell ESIF'!H7*'Modell ESIF'!B7 -> 30258.606 | E6: =D6-C6 -> 258.60553 | F6: =E6/C6 -> 0.0086201843 | G6: ='Modell ESIF'!H7/'Modell ESIF'!H5-1 -> 0.023762376 | H6: ='Modell ESIF'!B7/'Modell ESIF'!B5-1 -> -0.0018063584
A7: 2021 | B7: =SUM('Modell ESIF'!C7:C18) -> 180000 | C7: ='Modell ESIF'!K18 -> 210000 | D7: ='Modell ESIF'!J18*'Modell ESIF'!H19*'Modell ESIF'!B19 -> 240251.72 | E7: =D7-C7 -> 30251.717 | F7: =E7/C7 -> 0.1440558 | G7: ='Modell ESIF'!H19/'Modell ESIF'!H7-1 -> 0.28626692 | H7: ='Modell ESIF'!B19/'Modell ESIF'!B7-1 -> -0.0014198614
A8: 2022 | B8: =SUM('Modell ESIF'!C19:C30) -> 180000 | C8: ='Modell ESIF'!K30 -> 390000 | D8: ='Modell ESIF'!J30*'Modell ESIF'!H31*'Modell ESIF'!B31 -> 446239.04 | E8: =D8-C8 -> 56239.044 | F8: =E8/C8 -> 0.14420268 | G8: ='Modell ESIF'!H31/'Modell ESIF'!H19-1 -> -0.030075188 | H8: ='Modell ESIF'!B31/'Modell ESIF'!B19-1 -> 0.10413182
A9: 2023 | B9: =SUM('Modell ESIF'!C31:C42) -> 180000 | C9: ='Modell ESIF'!K42 -> 570000 | D9: ='Modell ESIF'!J42*'Modell ESIF'!H43*'Modell ESIF'!B43 -> 723851.88 | E9: =D9-C9 -> 153851.88 | F9: =E9/C9 -> 0.26991558 | G9: ='Modell ESIF'!H43/'Modell ESIF'!H31-1 -> 0.22015504 | H9: ='Modell ESIF'!B43/'Modell ESIF'!B31-1 -> -0.035325607
A10: 2024 | B10: =SUM('Modell ESIF'!C43:C54) -> 180000 | C10: ='Modell ESIF'!K54 -> 750000 | D10: ='Modell ESIF'!J54*'Modell ESIF'!H55*'Modell ESIF'!B55 -> 1187000.3 | E10: =D10-C10 -> 437000.31 | F10: =E10/C10 -> 0.58266709 | G10: ='Modell ESIF'!H55/'Modell ESIF'!H43-1 -> 0.25412961 | H10: ='Modell ESIF'!B55/'Modell ESIF'!B43-1 -> 0.077714375
A11: 2025 | B11: =SUM('Modell ESIF'!C55:C66) -> 180000 | C11: ='Modell ESIF'!K66 -> 930000 | D11: ='Modell ESIF'!J66*'Modell ESIF'!H67*'Modell ESIF'!B67 -> 1845988.5 | E11: =D11-C11 -> 915988.53 | F11: =E11/C11 -> 0.98493391 | G11: ='Modell ESIF'!H67/'Modell ESIF'!H55-1 -> 0.47720365 | H11: ='Modell ESIF'!B67/'Modell ESIF'!B55-1 -> -0.066912783
A12: 2026 (okt. 16-ig) | B12: =SUM('Modell ESIF'!C67:C76) -> 150000 | C12: ='Modell ESIF'!K77 -> 1080000 | D12: ='Modell ESIF'!M77 -> 2135513.9 | E12: =D12-C12 -> 1055513.9 | F12: =E12/C12 -> 0.97732772 | G12: ='Modell ESIF'!H77/'Modell ESIF'!H67-1 -> 0.13374486 | H12: ='Modell ESIF'!B77/'Modell ESIF'!B67-1 -> -0.054922172
A14: 84X0 – iShares MSCI EM ex-China UCITS ETF USD (Acc)
A15: Év | B15: Befizetés az évben (Ft) | C15: Összes befizetés év végén (Ft) | D15: Érték év végén (Ft) | E15: Nyereség (Ft) | F15: Összes hozam | G15: ETF árfolyamváltozás az évben (EUR) | H15: Forint/euró változás az évben
A16: 2021 | B16: =SUM('Modell 84X0'!C5:C13) -> 135000 | C16: ='Modell 84X0'!K13 -> 135000 | D16: ='Modell 84X0'!J13*'Modell 84X0'!H14*'Modell 84X0'!B14 -> 141523.99 | E16: =D16-C16 -> 6523.9937 | F16: =E16/C16 -> 0.048325879 | G16: ='Modell 84X0'!H14/'Modell 84X0'!H5-1 -> 0.081339713 | H16: ='Modell 84X0'!B14/'Modell 84X0'!B5-1 -> -0.0052692884
A17: 2022 | B17: =SUM('Modell 84X0'!C14:C25) -> 180000 | C17: ='Modell 84X0'!K25 -> 315000 | D17: ='Modell 84X0'!J25*'Modell 84X0'!H26*'Modell 84X0'!B26 -> 300476.92 | E17: =D17-C17 -> -14523.08 | F17: =E17/C17 -> -0.046105017 | G17: ='Modell 84X0'!H26/'Modell 84X0'!H14-1 -> -0.14159292 | H17: ='Modell 84X0'!B26/'Modell 84X0'!B14-1 -> 0.10413182
A18: 2023 | B18: =SUM('Modell 84X0'!C26:C37) -> 180000 | C18: ='Modell 84X0'!K37 -> 495000 | D18: ='Modell 84X0'!J37*'Modell 84X0'!H38*'Modell 84X0'!B38 -> 530600.33 | E18: =D18-C18 -> 35600.326 | F18: =E18/C18 -> 0.07191985 | G18: ='Modell 84X0'!H38/'Modell 84X0'!H26-1 -> 0.15206186 | H18: ='Modell 84X0'!B38/'Modell 84X0'!B26-1 -> -0.035325607
A19: 2024 | B19: =SUM('Modell 84X0'!C38:C49) -> 180000 | C19: ='Modell 84X0'!K49 -> 675000 | D19: ='Modell 84X0'!J49*'Modell 84X0'!H50*'Modell 84X0'!B50 -> 829377.02 | E19: =D19-C19 -> 154377.02 | F19: =E19/C19 -> 0.22870669 | G19: ='Modell 84X0'!H50/'Modell 84X0'!H38-1 -> 0.11185682 | H19: ='Modell 84X0'!B50/'Modell 84X0'!B38-1 -> 0.077714375
A20: 2025 | B20: =SUM('Modell 84X0'!C50:C61) -> 180000 | C20: ='Modell 84X0'!K61 -> 855000 | D20: ='Modell 84X0'!J61*'Modell 84X0'!H62*'Modell 84X0'!B62 -> 1123388.3 | E20: =D20-C20 -> 268388.26 | F20: =E20/C20 -> 0.3139044 | G20: ='Modell 84X0'!H62/'Modell 84X0'!H50-1 -> 0.19114688 | H20: ='Modell 84X0'!B62/'Modell 84X0'!B50-1 -> -0.066912783
A21: 2026 (okt. 16-ig) | B21: =SUM('Modell 84X0'!C62:C71) -> 150000 | C21: ='Modell 84X0'!K72 -> 1005000 | D21: ='Modell 84X0'!M72 -> 1574911.2 | E21: =D21-C21 -> 569911.25 | F21: =E21/C21 -> 0.56707587 | G21: ='Modell 84X0'!H72/'Modell 84X0'!H62-1 -> 0.33445946 | H21: ='Modell 84X0'!B72/'Modell 84X0'!B62-1 -> -0.054922172
A23: BRNT – WisdomTree Brent Crude Oil
A24: Év | B24: Befizetés az évben (Ft) | C24: Összes befizetés év végén (Ft) | D24: Érték év végén (Ft) | E24: Nyereség (Ft) | F24: Összes hozam | G24: ETF árfolyamváltozás az évben (EUR) | H24: Forint/euró változás az évben
A25: 2020 | B25: =SUM('Modell BRNT'!C5:C16) -> 180000 | C25: ='Modell BRNT'!K16 -> 180000 | D25: ='Modell BRNT'!J16*'Modell BRNT'!H17*'Modell BRNT'!B17 -> 193654.72 | E25: =D25-C25 -> 13654.725 | F25: =E25/C25 -> 0.075859581 | G25: ='Modell BRNT'!H17/'Modell BRNT'!H5-1 -> -0.37984777 | H25: ='Modell BRNT'!B17/'Modell BRNT'!B5-1 -> 0.074197021
A26: 2021 | B26: =SUM('Modell BRNT'!C17:C28) -> 180000 | C26: ='Modell BRNT'!K28 -> 360000 | D26: ='Modell BRNT'!J28*'Modell BRNT'!H29*'Modell BRNT'!B29 -> 566971.74 | E26: =D26-C26 -> 206971.74 | F26: =E26/C26 -> 0.5749215 | G26: ='Modell BRNT'!H29/'Modell BRNT'!H17-1 -> 0.77440094 | H26: ='Modell BRNT'!B29/'Modell BRNT'!B17-1 -> -0.0014198614
A27: 2022 | B27: =SUM('Modell BRNT'!C29:C40) -> 180000 | C27: ='Modell BRNT'!K40 -> 540000 | D27: ='Modell BRNT'!J40*'Modell BRNT'!H41*'Modell BRNT'!B41 -> 1108145.4 | E27: =D27-C27 -> 568145.42 | F27: =E27/C27 -> 1.0521211 | G27: ='Modell BRNT'!H41/'Modell BRNT'!H29-1 -> 0.48155468 | H27: ='Modell BRNT'!B41/'Modell BRNT'!B29-1 -> 0.10413182
A28: 2023 | B28: =SUM('Modell BRNT'!C41:C52) -> 180000 | C28: ='Modell BRNT'!K52 -> 720000 | D28: ='Modell BRNT'!J52*'Modell BRNT'!H53*'Modell BRNT'!B53 -> 1173843 | E28: =D28-C28 -> 453843.04 | F28: =E28/C28 -> 0.63033755 | G28: ='Modell BRNT'!H53/'Modell BRNT'!H41-1 -> -0.059804357 | H28: ='Modell BRNT'!B53/'Modell BRNT'!B41-1 -> -0.035325607
A29: 2024 | B29: =SUM('Modell BRNT'!C53:C64) -> 180000 | C29: ='Modell BRNT'!K64 -> 900000 | D29: ='Modell BRNT'!J64*'Modell BRNT'!H65*'Modell BRNT'!B65 -> 1623043.7 | E29: =D29-C29 -> 723043.69 | F29: =E29/C29 -> 0.80338188 | G29: ='Modell BRNT'!H65/'Modell BRNT'!H53-1 -> 0.13478364 | H29: ='Modell BRNT'!B65/'Modell BRNT'!B53-1 -> 0.077714375
A30: 2025 | B30: =SUM('Modell BRNT'!C65:C76) -> 180000 | C30: ='Modell BRNT'!K76 -> 1080000 | D30: ='Modell BRNT'!J76*'Modell BRNT'!H77*'Modell BRNT'!B77 -> 1424885.2 | E30: =D30-C30 -> 344885.24 | F30: =E30/C30 -> 0.31933819 | G30: ='Modell BRNT'!H77/'Modell BRNT'!H65-1 -> -0.16170035 | H30: ='Modell BRNT'!B77/'Modell BRNT'!B65-1 -> -0.066912783
A31: 2026 (okt. 16-ig) | B31: =SUM('Modell BRNT'!C77:C86) -> 150000 | C31: ='Modell BRNT'!K87 -> 1230000 | D31: ='Modell BRNT'!M87 -> 3365058.1 | E31: =D31-C31 -> 2135058.1 | F31: =E31/C31 -> 1.7358196 | G31: ='Modell BRNT'!H87/'Modell BRNT'!H77-1 -> 1.3348248 | H31: ='Modell BRNT'!B87/'Modell BRNT'!B77-1 -> -0.054922172
A33: SXR2 – iShares MSCI Canada UCITS ETF (Acc)
A34: Év | B34: Befizetés az évben (Ft) | C34: Összes befizetés év végén (Ft) | D34: Érték év végén (Ft) | E34: Nyereség (Ft) | F34: Összes hozam | G34: ETF árfolyamváltozás az évben (EUR) | H34: Forint/euró változás az évben
A35: 2020 | B35: =SUM('Modell SXR2'!C5:C16) -> 180000 | C35: ='Modell SXR2'!K16 -> 180000 | D35: ='Modell SXR2'!J16*'Modell SXR2'!H17*'Modell SXR2'!B17 -> 200027.34 | E35: =D35-C35 -> 20027.336 | F35: =E35/C35 -> 0.11126298 | G35: ='Modell SXR2'!H17/'Modell SXR2'!H5-1 -> -0.036837449 | H35: ='Modell SXR2'!B17/'Modell SXR2'!B5-1 -> 0.074197021
A36: 2021 | B36: =SUM('Modell SXR2'!C17:C28) -> 180000 | C36: ='Modell SXR2'!K28 -> 360000 | D36: ='Modell SXR2'!J28*'Modell SXR2'!H29*'Modell SXR2'!B29 -> 477525.28 | E36: =D36-C36 -> 117525.28 | F36: =E36/C36 -> 0.3264591 | G36: ='Modell SXR2'!H29/'Modell SXR2'!H17-1 -> 0.35624217 | H36: ='Modell SXR2'!B29/'Modell SXR2'!B17-1 -> -0.0014198614
A37: 2022 | B37: =SUM('Modell SXR2'!C29:C40) -> 180000 | C37: ='Modell SXR2'!K40 -> 540000 | D37: ='Modell SXR2'!J40*'Modell SXR2'!H41*'Modell SXR2'!B41 -> 653481.78 | E37: =D37-C37 -> 113481.78 | F37: =E37/C37 -> 0.21015145 | G37: ='Modell SXR2'!H41/'Modell SXR2'!H29-1 -> -0.077889293 | H37: ='Modell SXR2'!B41/'Modell SXR2'!B29-1 -> 0.10413182
A38: 2023 | B38: =SUM('Modell SXR2'!C41:C52) -> 180000 | C38: ='Modell SXR2'!K52 -> 720000 | D38: ='Modell SXR2'!J52*'Modell SXR2'!H53*'Modell SXR2'!B53 -> 891897.92 | E38: =D38-C38 -> 171897.92 | F38: =E38/C38 -> 0.23874711 | G38: ='Modell SXR2'!H53/'Modell SXR2'!H41-1 -> 0.11084402 | H38: ='Modell SXR2'!B53/'Modell SXR2'!B41-1 -> -0.035325607
A39: 2024 | B39: =SUM('Modell SXR2'!C53:C64) -> 180000 | C39: ='Modell SXR2'!K64 -> 900000 | D39: ='Modell SXR2'!J64*'Modell SXR2'!H65*'Modell SXR2'!B65 -> 1339655.2 | E39: =D39-C39 -> 439655.17 | F39: =E39/C39 -> 0.48850574 | G39: ='Modell SXR2'!H65/'Modell SXR2'!H53-1 -> 0.1797307 | H39: ='Modell SXR2'!B65/'Modell SXR2'!B53-1 -> 0.077714375
A40: 2025 | B40: =SUM('Modell SXR2'!C65:C76) -> 180000 | C40: ='Modell SXR2'!K76 -> 1080000 | D40: ='Modell SXR2'!J76*'Modell SXR2'!H77*'Modell SXR2'!B77 -> 1727907 | E40: =D40-C40 -> 647907.01 | F40: =E40/C40 -> 0.5999139 | G40: ='Modell SXR2'!H77/'Modell SXR2'!H65-1 -> 0.2214919 | H40: ='Modell SXR2'!B77/'Modell SXR2'!B65-1 -> -0.066912783
A41: 2026 (okt. 16-ig) | B41: =SUM('Modell SXR2'!C77:C86) -> 150000 | C41: ='Modell SXR2'!K87 -> 1230000 | D41: ='Modell SXR2'!M87 -> 2069675.6 | E41: =D41-C41 -> 839675.64 | F41: =E41/C41 -> 0.68266312 | G41: ='Modell SXR2'!H87/'Modell SXR2'!H77-1 -> 0.16860635 | H41: ='Modell SXR2'!B87/'Modell SXR2'!B77-1 -> -0.054922172
A43: CEMS – iShares Edge MSCI Europe Value Factor UCITS ETF
A44: Év | B44: Befizetés az évben (Ft) | C44: Összes befizetés év végén (Ft) | D44: Érték év végén (Ft) | E44: Nyereség (Ft) | F44: Összes hozam | G44: ETF árfolyamváltozás az évben (EUR) | H44: Forint/euró változás az évben
A45: 2020 | B45: =SUM('Modell CEMS'!C5:C16) -> 180000 | C45: ='Modell CEMS'!K16 -> 180000 | D45: ='Modell CEMS'!J16*'Modell CEMS'!H17*'Modell CEMS'!B17 -> 207815.24 | E45: =D45-C45 -> 27815.24 | F45: =E45/C45 -> 0.15452911 | G45: ='Modell CEMS'!H17/'Modell CEMS'!H5-1 -> -0.088328076 | H45: ='Modell CEMS'!B17/'Modell CEMS'!B5-1 -> 0.074197021
...

Sheet Hírek és hatások
A1: Mely országok és események mozgatják az egyes ETF-eket?
A2: Mit figyelj a hírekben, ETF-enként. A súly az ország aránya az ETF-ben (justETF, 2026.08.31).
A4: ETF | B4: Ország / tényező | C4: Súly az ETF-ben | D4: Gazdasági hírek, amiket érdemes figyelni | E4: Vállalati / szektor események | F4: Hatás iránya (jellemzően) | G4: Hol kövesd
A5: Minden ETF | B5: Magyarország – forint árfolyam | C5: – | D5: MNB kamatdöntés, magyar infláció, költségvetési hiány, EU-források, hitelminősítések. | E5: – | F5: Gyengülő forint → forintban nagyobb érték; erősödő forint → kisebb (2026-ban a forint erősödött, ez csökkentette a forintos hozamot). | G5: mnb.hu, portfolio.hu, EKB árfolyamok
A6: Minden ETF | B6: Globális hangulat – USA | C6: – | D6: Fed kamatdöntések, amerikai infláció (CPI), munkaerőpiaci adatok, dollár árfolyam, Wall Street esések. | E6: – | F6: Egy amerikai krach a többi piacot is lehúzza (kisebb mértékben). Erős dollár → feltörekvő piacoknak rossz. | G6: federalreserve.gov, Reuters, Bloomberg
A7: ESIF | B7: Egyesült Királyság | C7: 0.2297 | D7: Bank of England kamatdöntés, brit infláció, gilt hozamok, költségvetés (bankadók). | E7: HSBC negyedéves jelentés, osztalék/visszavásárlás, Ázsia-kitettség (HSBC). | F7: Magasabb kamat → jellemzően jobb banki profit. | G7: bankofengland.co.uk, FT, portfolio.hu
A8: ESIF | B8: Spanyolország | C8: 0.1245 | D8: Spanyol GDP, munkanélküliség, lakáspiac, banki különadó. | E8: Santander, BBVA eredmények; BBVA–Sabadell típusú fúziók; latin-amerikai kitettség (Brazília, Mexikó, Törökország). | F8: Erős gazdaság, alacsony hitelveszteség → pozitív. | G8: Reuters, Expansión
A9: ESIF | B9: Németország | C9: 0.124 | D9: Ifo/ZEW index, ipari termelés, német GDP, költségvetési csomagok. | E9: Allianz, Deutsche Bank, Munich Re eredmények; biztosítói káresemények. | F9: Német konjunktúra-javulás → pozitív. | G9: destatis.de, Handelsblatt
A10: ESIF | B10: Svájc | C10: 0.1146 | D10: SNB kamatdöntés, frank árfolyam. | E10: UBS tőkekövetelmény-szabályozás, Zurich Insurance eredmények. | F10: Szigorúbb tőkeszabály UBS-re → negatív. | G10: snb.ch, finews.ch
A11: ESIF | B11: Eurózóna (Olaszo., Franciao., Hollandia) | C11: 0.4072 | D11: EKB kamatdöntések, hozamgörbe meredeksége, olasz/francia államkötvény-felárak, EBA stresszteszt. | E11: UniCredit, Intesa, BNP, ING eredmények és fúziók; nem teljesítő hitelek aránya. | F11: EKB kamatcsökkentés → szűkülő kamatmarzs (negatív); válságjelek → erős esés. | G11: ecb.europa.eu, Reuters
A12: 84X0 | B12: Tajvan | C12: 0.346 | D12: Tajvani export- és rendelésadatok, Kína–Tajvan katonai feszültség, USA chip-vámok. | E12: TSMC havi árbevétel és negyedéves jelentés, AI-chip kereslet (Nvidia, Apple megrendelések). | F12: AI-boom → erősen pozitív; geopolitikai incidens → éles esés. | G12: Reuters Asia, TSMC befektetői oldal
A13: 84X0 | B13: Dél-Korea | C13: 0.2601 | D13: Koreai export (különösen félvezető), Bank of Korea kamat, won árfolyam, belpolitika. | E13: Samsung és SK hynix eredmények, DRAM/HBM memóriachip árak. | F13: Memóriachip-árak emelkedése → pozitív. | G13: Yonhap, Korea Herald
A14: 84X0 | B14: India | C14: 0.1428 | D14: RBI kamatdöntés, GDP, infláció, külföldi tőkeáramlás, rúpia, választások. | E14: HDFC, ICICI, Reliance eredmények. | F14: Erős növekedés, beáramló tőke → pozitív. | G14: rbi.org.in, Economic Times
A15: 84X0 | B15: Brazília, Szaúd-Arábia, D-Afrika, Mexikó | C15: 0.2511 | D15: Brazil Selic kamat, nyersanyag- és olajárak, peso/real árfolyam, USA–Mexikó kereskedelem. | E15: Petrobras, Vale, Aramco, Naspers. | F15: Magas nyersanyagár → pozitív (Brazília, Szaúd). | G15: Reuters, Bloomberg Línea
A16: BRNT | B16: OPEC+ (Szaúd-Arábia, Oroszország) | C16: – | D16: OPEC+ kitermelési döntések, Szaúd-Arábia árpolitikája, orosz szankciók. | E16: – | F16: Kitermelés-csökkentés → olajár fel. | G16: opec.org, Reuters Energy
A17: BRNT | B17: Közel-Kelet geopolitika | C17: – | D17: Irán, Izrael, Vörös-tenger / Hormuzi-szoros szállítási zavarok. | E17: – | F17: Kínálati zavar → hirtelen áremelkedés. | G17: Reuters, Al Jazeera
A18: BRNT | B18: USA (kereslet és kínálat) | C18: – | D18: EIA heti készletjelentés (szerda), amerikai palaolaj-termelés, dollár, recessziós félelem. | E18: – | F18: Készletnövekedés, recesszió → olajár le. | G18: eia.gov
A19: BRNT | B19: Kína (kereslet) | C19: – | D19: Kínai GDP, ipari termelés, olajimport, ösztönző csomagok. | E19: – | F19: Gyenge kínai kereslet → olajár le. | G19: IEA havi jelentés, Reuters
A20: BRNT | B20: Határidős görbe (görgetés) | C20: – | D20: Contango/backwardation: a következő havi kontraktusok ára a mostanihoz képest. | E20: – | F20: Contango → hosszú távon görgetési veszteség. | G20: WisdomTree termékoldal
A21: SXR2 | B21: Kanada | C21: 0.9749 | D21: Bank of Canada kamat, kanadai GDP és munkaerőpiac, lakásárak, háztartási adósság, CAD árfolyam. | E21: Royal Bank, TD, BMO, Scotiabank eredmények; Shopify; Enbridge, Canadian Natural. | F21: Kamatcsökkentés óvatosan pozitív; lakáspiaci válság → bankok esnek. | G21: bankofcanada.ca, Globe and Mail
A22: SXR2 | B22: USA–Kanada kereskedelem | C22: 0.0231 | D22: Vámok, USMCA felülvizsgálat (2026), amerikai kereslet. | E22: Exportőr ipari és nyersanyag cégek. | F22: Vámháború → negatív. | G22: Reuters, CBC
A23: SXR2 | B23: Nyersanyagárak | C23: – | D23: Olaj- és gázár, aranyár, réz/uránár. | E23: Agnico Eagle, Barrick, Cameco, energiacégek. | F23: Magasabb olaj- és aranyár → pozitív. | G23: kitco.com, eia.gov
A24: CEMS | B24: Németország | C24: 0.2349 | D24: Ifo, ipari termelés, német infrastruktúra- és védelmi költségvetés, energiaárak. | E24: Siemens, Bayer (perek, glifozát), Deutsche Post eredmények. | F24: Fiskális élénkítés → pozitív. | G24: destatis.de, Handelsblatt
A25: CEMS | B25: Egyesült Királyság | C25: 0.2346 | D25: BoE kamat, brit infláció, font. | E25: HSBC, BAT (dohányszabályozás), GSK (gyógyszer-pipeline). | F25: Gyengébb font → euróban kisebb érték. | G25: bankofengland.co.uk, FT
A26: CEMS | B26: Franciaország | C26: 0.2073 | D26: Francia politika és költségvetési hiány, OAT–Bund felár, hitelminősítés. | E26: Sanofi, BNP Paribas, Vinci eredmények. | F26: Politikai bizonytalanság → negatív. | G26: Les Echos, Reuters
A27: CEMS | B27: Value vs. growth hangulat | C27: – | D27: Kamatszint és hozamgörbe; ha a tech/AI papírok rallyznak, a value lemaradhat. | E27: USA gyógyszerár-szabályozás (Sanofi, GSK, Bayer). | F27: Magasabb kamat → value-nak kedvez. | G27: MSCI faktor-jelentések
A28: CEBL | B28: Tajvan | C28: 0.3319 | D28: Lásd 84X0: export, Kína–Tajvan feszültség, chip-vámok. | E28: TSMC, MediaTek, Hon Hai. | F28: AI-ciklus → pozitív. | G28: Reuters Asia
A29: CEBL | B29: Dél-Korea | C29: 0.2492 | D29: Koreai export, BoK, won. | E29: Samsung, SK hynix memóriachip árak. | F29: Memóriachip-árak fel → pozitív. | G29: Yonhap
A30: CEBL | B30: Kína | C30: 0.222 | D30: PBoC kamat, kínai GDP és PMI, ingatlanpiac (Evergrande-típusú csődök), ösztönző csomagok, USA–Kína vámok, tech-szabályozás. | E30: Tencent, Alibaba, China Construction Bank, Meituan. | F30: Ösztönző csomag → pozitív; vámháború → negatív. | G30: Caixin, SCMP, Reuters
A31: CEBL | B31: India | C31: 0.1369 | D31: RBI, GDP, infláció, rúpia. | E31: HDFC, ICICI, Reliance, Infosys. | F31: Erős növekedés → pozitív. | G31: Economic Times
A32: EUNM | B32: Tajvan | C32: 0.2748 | D32: Lásd 84X0. | E32: TSMC. | F32: AI-ciklus → pozitív. | G32: Reuters Asia
A33: EUNM | B33: Dél-Korea | C33: 0.2064 | D33: Lásd 84X0. | E33: Samsung, SK hynix. | F33: Memóriachip-árak → pozitív. | G33: Yonhap
A34: EUNM | B34: Kína | C34: 0.1842 | D34: Lásd CEBL. | E34: Tencent, Alibaba. | F34: Ösztönzők pozitívak, vámok negatívak. | G34: Caixin, SCMP
A35: EUNM | B35: India | C35: 0.1134 | D35: Lásd 84X0. | E35: HDFC, Reliance. | F35: Erős növekedés → pozitív. | G35: Economic Times
A36: EUNM | B36: Egyéb (Brazília, Szaúd, D-Afrika, Mexikó, Kelet-Európa) | C36: 0.2212 | D36: Nyersanyagárak, latin-amerikai politika, dollár, olajár. | E36: Petrobras, Vale, Aramco, OTP (kis súly). | F36: Erős dollár → negatív. | G36: Reuters

Sheet Modell ESIF
A1: Havi befektetés modell – ESIF · iShares MSCI Europe Financials Sector UCITS ETF EUR (Acc)
A2: Havonta 15 000 Ft befizetés (Feltételezések lap) a Lightyear-en; kék = forrásadat, fekete = képlet.
A4: Hónap | B4: EUR/HUF (havi átlag) | C4: Befizetés (Ft) | D4: Váltási díj (Ft) | E4: Euróra váltva (EUR) | F4: Vételi díj (EUR) | G4: Befektetett (EUR) | H4: ETF árfolyam (EUR) | I4: Vett darab | J4: Összes darab | K4: Összes befizetés (Ft) | L4: Érték (EUR) | M4: Érték (Ft) | N4: Nyereség (Ft) | O4: Hozam % | P4: Pénzáram (XIRR-hez) | R4: Összesítés
A5: 44136 | B5: 359.84 | C5: =Feltételezések!$B$5 -> 15000 | D5: =C5*Feltételezések!$B$6 -> 52.5 | E5: =(C5-D5)/B5 -> 41.539295 | F5: =Feltételezések!$B$7 -> 0 | G5: =MAX(E5-F5,0) -> 41.539295 | H5: 5.05 | I5: =G5/H5 -> 8.225603 | J5: =I5 -> 8.225603 | K5: =C5 -> 15000 | L5: =J5*H5 -> 41.539295 | M5: =L5*B5 -> 14947.5 | N5: =M5-K5 -> -52.5 | O5: =N5/K5 -> -0.0035 | P5: =-C5 -> -15000 | R5: Befizetés kezdete | S5: =A5 -> 44136
A6: 44166 | B6: 359.02 | C6: =Feltételezések!$B$5 -> 15000 | D6: =C6*Feltételezések!$B$6 -> 52.5 | E6: =(C6-D6)/B6 -> 41.634171 | F6: =Feltételezések!$B$7 -> 0 | G6: =MAX(E6-F6,0) -> 41.634171 | H6: 5.16 | I6: =G6/H6 -> 8.0686378 | J6: =J5+I6 -> 16.294241 | K6: =K5+C6 -> 30000 | L6: =J6*H6 -> 84.078282 | M6: =L6*B6 -> 30185.785 | N6: =M6-K6 -> 185.78494 | O6: =N6/K6 -> 0.0061928312 | P6: =-C6 -> -15000 | R6: Befizetett hónapok | S6: =COUNT(C5:C76) -> 72
A7: 44197 | B7: 359.19 | C7: =Feltételezések!$B$5 -> 15000 | D7: =C7*Feltételezések!$B$6 -> 52.5 | E7: =(C7-D7)/B7 -> 41.614466 | F7: =Feltételezések!$B$7 -> 0 | G7: =MAX(E7-F7,0) -> 41.614466 | H7: 5.17 | I7: =G7/H7 -> 8.0492197 | J7: =J6+I7 -> 24.34346 | K7: =K6+C7 -> 45000 | L7: =J7*H7 -> 125.85569 | M7: =L7*B7 -> 45206.106 | N7: =M7-K7 -> 206.10553 | O7: =N7/K7 -> 0.0045801229 | P7: =-C7 -> -15000 | R7: Összes befizetés (Ft) | S7: =K77 -> 1080000
A8: 44228 | B8: 358.15 | C8: =Feltételezések!$B$5 -> 15000 | D8: =C8*Feltételezések!$B$6 -> 52.5 | E8: =(C8-D8)/B8 -> 41.735306 | F8: =Feltételezések!$B$7 -> 0 | G8: =MAX(E8-F8,0) -> 41.735306 | H8: 5.04 | I8: =G8/H8 -> 8.2808148 | J8: =J7+I8 -> 32.624275 | K8: =K7+C8 -> 60000 | L8: =J8*H8 -> 164.42635 | M8: =L8*B8 -> 58889.296 | N8: =M8-K8 -> -1110.7037 | O8: =N8/K8 -> -0.018511729 | P8: =-C8 -> -15000 | R8: Mai érték (Ft) | S8: =M77 -> 2135513.9
A9: 44256 | B9: 365.61 | C9: =Feltételezések!$B$5 -> 15000 | D9: =C9*Feltételezések!$B$6 -> 52.5 | E9: =(C9-D9)/B9 -> 40.883729 | F9: =Feltételezések!$B$7 -> 0 | G9: =MAX(E9-F9,0) -> 40.883729 | H9: 5.62 | I9: =G9/H9 -> 7.2746848 | J9: =J8+I9 -> 39.89896 | K9: =K8+C9 -> 75000 | L9: =J9*H9 -> 224.23216 | M9: =L9*B9 -> 81981.518 | N9: =M9-K9 -> 6981.5184 | O9: =N9/K9 -> 0.093086911 | P9: =-C9 -> -15000 | R9: Nyereség (Ft) | S9: =N77 -> 1055513.9
A10: 44287 | B10: 360.58 | C10: =Feltételezések!$B$5 -> 15000 | D10: =C10*Feltételezések!$B$6 -> 52.5 | E10: =(C10-D10)/B10 -> 41.454046 | F10: =Feltételezések!$B$7 -> 0 | G10: =MAX(E10-F10,0) -> 41.454046 | H10: 5.89 | I10: =G10/H10 -> 7.0380384 | J10: =J9+I10 -> 46.936998 | K10: =K9+C10 -> 90000 | L10: =J10*H10 -> 276.45892 | M10: =L10*B10 -> 99685.558 | N10: =M10-K10 -> 9685.5577 | O10: =N10/K10 -> 0.10761731 | P10: =-C10 -> -15000 | R10: Összes hozam | S10: =O77 -> 0.97732772
A11: 44317 | B11: 353.65 | C11: =Feltételezések!$B$5 -> 15000 | D11: =C11*Feltételezések!$B$6 -> 52.5 | E11: =(C11-D11)/B11 -> 42.266365 | F11: =Feltételezések!$B$7 -> 0 | G11: =MAX(E11-F11,0) -> 42.266365 | H11: 5.94 | I11: =G11/H11 -> 7.1155497 | J11: =J10+I11 -> 54.052548 | K11: =K10+C11 -> 105000 | L11: =J11*H11 -> 321.07214 | M11: =L11*B11 -> 113547.16 | N11: =M11-K11 -> 8547.1609 | O11: =N11/K11 -> 0.081401532 | P11: =-C11 -> -15000 | R11: Éves hozam (XIRR, pénzzel súlyozott) | S11: =XIRR(P5:P77,A5:A77) -> 0.22895865
A12: 44348 | B12: 349.94 | C12: =Feltételezések!$B$5 -> 15000 | D12: =C12*Feltételezések!$B$6 -> 52.5 | E12: =(C12-D12)/B12 -> 42.714465 | F12: =Feltételezések!$B$7 -> 0 | G12: =MAX(E12-F12,0) -> 42.714465 | H12: 6.21 | I12: =G12/H12 -> 6.8783358 | J12: =J11+I12 -> 60.930884 | K12: =K11+C12 -> 120000 | L12: =J12*H12 -> 378.38079 | M12: =L12*B12 -> 132410.57 | N12: =M12-K12 -> 12410.573 | O12: =N12/K12 -> 0.10342144 | P12: =-C12 -> -15000 | R12: Fizetett díjak összesen (Ft, becslés) | S12: =SUM(D5:D76)+SUMPRODUCT(F5:F76,B5:B76) -> 3780
A13: 44378 | B13: 357.26 | C13: =Feltételezések!$B$5 -> 15000 | D13: =C13*Feltételezések!$B$6 -> 52.5 | E13: =(C13-D13)/B13 -> 41.839277 | F13: =Feltételezések!$B$7 -> 0 | G13: =MAX(E13-F13,0) -> 41.839277 | H13: 6.08 | I13: =G13/H13 -> 6.88146 | J13: =J12+I13 -> 67.812344 | K13: =K12+C13 -> 135000 | L13: =J13*H13 -> 412.29905 | M13: =L13*B13 -> 147297.96 | N13: =M13-K13 -> 12297.959 | O13: =N13/K13 -> 0.091095992 | P13: =-C13 -> -15000 | R13: Becsült adó, ha most eladnád (Ft) | S13: =MAX(0,N77)*(Feltételezések!$B$11+Feltételezések!$B$12) -> 295543.9
A14: 44409 | B14: 351.84 | C14: =Feltételezések!$B$5 -> 15000 | D14: =C14*Feltételezések!$B$6 -> 52.5 | E14: =(C14-D14)/B14 -> 42.483799 | F14: =Feltételezések!$B$7 -> 0 | G14: =MAX(E14-F14,0) -> 42.483799 | H14: 6.06 | I14: =G14/H14 -> 7.010528 | J14: =J13+I14 -> 74.822872 | K14: =K13+C14 -> 150000 | L14: =J14*H14 -> 453.4266 | M14: =L14*B14 -> 159533.62 | N14: =M14-K14 -> 9533.6162 | O14: =N14/K14 -> 0.063557441 | P14: =-C14 -> -15000 | R14: Adózás utáni nyereség (Ft) | S14: =N77-S13 -> 759970.04
A15: 44440 | B15: 352.51 | C15: =Feltételezések!$B$5 -> 15000 | D15: =C15*Feltételezések!$B$6 -> 52.5 | E15: =(C15-D15)/B15 -> 42.403052 | F15: =Feltételezések!$B$7 -> 0 | G15: =MAX(E15-F15,0) -> 42.403052 | H15: 6.26 | I15: =G15/H15 -> 6.7736505 | J15: =J14+I15 -> 81.596522 | K15: =K14+C15 -> 165000 | L15: =J15*H15 -> 510.79423 | M15: =L15*B15 -> 180060.07 | N15: =M15-K15 -> 15060.074 | O15: =N15/K15 -> 0.091273177 | P15: =-C15 -> -15000 | R15: Legjobb hónap végi érték (Ft) | S15: =MAX(M5:M77) -> 2222732.3
A16: 44470 | B16: 360.82 | C16: =Feltételezések!$B$5 -> 15000 | D16: =C16*Feltételezések!$B$6 -> 52.5 | E16: =(C16-D16)/B16 -> 41.426473 | F16: =Feltételezések!$B$7 -> 0 | G16: =MAX(E16-F16,0) -> 41.426473 | H16: 6.21 | I16: =G16/H16 -> 6.6709296 | J16: =J15+I16 -> 88.267452 | K16: =K15+C16 -> 180000 | L16: =J16*H16 -> 548.14088 | M16: =L16*B16 -> 197780.19 | N16: =M16-K16 -> 17780.191 | O16: =N16/K16 -> 0.098778841 | P16: =-C16 -> -15000 | R16: Legnagyobb papírveszteség (Ft) | S16: =MIN(N5:N77) -> -1110.7037
A17: 44501 | B17: 364.5 | C17: =Feltételezések!$B$5 -> 15000 | D17: =C17*Feltételezések!$B$6 -> 52.5 | E17: =(C17-D17)/B17 -> 41.00823 | F17: =Feltételezések!$B$7 -> 0 | G17: =MAX(E17-F17,0) -> 41.00823 | H17: 6.72 | I17: =G17/H17 -> 6.1024152 | J17: =J16+I17 -> 94.369867 | K17: =K16+C17 -> 195000 | L17: =J17*H17 -> 634.16551 | M17: =L17*B17 -> 231153.33 | N17: =M17-K17 -> 36153.328 | O17: =N17/K17 -> 0.18540168 | P17: =-C17 -> -15000
A18: 44531 | B18: 367.5 | C18: =Feltételezések!$B$5 -> 15000 | D18: =C18*Feltételezések!$B$6 -> 52.5 | E18: =(C18-D18)/B18 -> 40.673469 | F18: =Feltételezések!$B$7 -> 0 | G18: =MAX(E18-F18,0) -> 40.673469 | H18: 6.4 | I18: =G18/H18 -> 6.3552296 | J18: =J17+I18 -> 100.7251 | K18: =K17+C18 -> 210000 | L18: =J18*H18 -> 644.64062 | M18: =L18*B18 -> 236905.43 | N18: =M18-K18 -> 26905.428 | O18: =N18/K18 -> 0.12812109 | P18: =-C18 -> -15000
A19: 44562 | B19: 358.68 | C19: =Feltételezések!$B$5 -> 15000 | D19: =C19*Feltételezések!$B$6 -> 52.5 | E19: =(C19-D19)/B19 -> 41.673637 | F19: =Feltételezések!$B$7 -> 0 | G19: =MAX(E19-F19,0) -> 41.673637 | H19: 6.65 | I19: =G19/H19 -> 6.2667123 | J19: =J18+I19 -> 106.99181 | K19: =K18+C19 -> 225000 | L19: =J19*H19 -> 711.49553 | M19: =L19*B19 -> 255199.22 | N19: =M19-K19 -> 30199.217 | O19: =N19/K19 -> 0.13421874 | P19: =-C19 -> -15000
A20: 44593 | B20: 356.97 | C20: =Feltételezések!$B$5 -> 15000 | D20: =C20*Feltételezések!$B$6 -> 52.5 | E20: =(C20-D20)/B20 -> 41.873267 | F20: =Feltételezések!$B$7 -> 0 | G20: =MAX(E20-F20,0) -> 41.873267 | H20: 7 | I20: =G20/H20 -> 5.9818952 | J20: =J19+I20 -> 112.9737 | K20: =K19+C20 -> 240000 | L20: =J20*H20 -> 790.81593 | M20: =L20*B20 -> 282297.56 | N20: =M20-K20 -> 42297.563 | O20: =N20/K20 -> 0.17623985 | P20: =-C20 -> -15000
A21: 44621 | B21: 376.64 | C21: =Feltételezések!$B$5 -> 15000 | D21: =C21*Feltételezések!$B$6 -> 52.5 | E21: =(C21-D21)/B21 -> 39.686438 | F21: =Feltételezések!$B$7 -> 0 | G21: =MAX(E21-F21,0) -> 39.686438 | H21: 6.03 | I21: =G21/H21 -> 6.5814988 | J21: =J20+I21 -> 119.5552 | K21: =K20+C21 -> 255000 | L21: =J21*H21 -> 720.91788 | M21: =L21*B21 -> 271526.51 | N21: =M21-K21 -> 16526.509 | O21: =N21/K21 -> 0.064809838 | P21: =-C21 -> -15000
A22: 44652 | B22: 374.87 | C22: =Feltételezések!$B$5 -> 15000 | D22: =C22*Feltételezések!$B$6 -> 52.5 | E22: =(C22-D22)/B22 -> 39.873823 | F22: =Feltételezések!$B$7 -> 0 | G22: =MAX(E22-F22,0) -> 39.873823 | H22: 6.49 | I22: =G22/H22 -> 6.1438864 | J22: =J21+I22 -> 125.69909 | K22: =K21+C22 -> 270000 | L22: =J22*H22 -> 815.78709 | M22: =L22*B22 -> 305814.11 | N22: =M22-K22 -> 35814.107 | O22: =N22/K22 -> 0.13264484 | P22: =-C22 -> -15000
A23: 44682 | B23: 384.45 | C23: =Feltételezések!$B$5 -> 15000 | D23: =C23*Feltételezések!$B$6 -> 52.5 | E23: =(C23-D23)/B23 -> 38.880218 | F23: =Feltételezések!$B$7 -> 0 | G23: =MAX(E23-F23,0) -> 38.880218 | H23: 6.24 | I23: =G23/H23 -> 6.2308042 | J23: =J22+I23 -> 131.92989 | K23: =K22+C23 -> 285000 | L23: =J23*H23 -> 823.24254 | M23: =L23*B23 -> 316495.59 | N23: =M23-K23 -> 31495.594 | O23: =N23/K23 -> 0.11051086 | P23: =-C23 -> -15000
A24: 44713 | B24: 396.66 | C24: =Feltételezések!$B$5 -> 15000 | D24: =C24*Feltételezések!$B$6 -> 52.5 | E24: =(C24-D24)/B24 -> 37.683406 | F24: =Feltételezések!$B$7 -> 0 | G24: =MAX(E24-F24,0) -> 37.683406 | H24: 6.32 | I24: =G24/H24 -> 5.9625643 | J24: =J23+I24 -> 137.89246 | K24: =K23+C24 -> 300000 | L24: =J24*H24 -> 871.48034 | M24: =L24*B24 -> 345681.39 | N24: =M24-K24 -> 45681.39 | O24: =N24/K24 -> 0.1522713 | P24: =-C24 -> -15000
A25: 44743 | B25: 404.1 | C25: =Feltételezések!$B$5 -> 15000 | D25: =C25*Feltételezések!$B$6 -> 52.5 | E25: =(C25-D25)/B25 -> 36.989607 | F25: =Feltételezések!$B$7 -> 0 | G25: =MAX(E25-F25,0) -> 36.989607 | H25: 5.84 | I25: =G25/H25 -> 6.3338367 | J25: =J24+I25 -> 144.22629 | K25: =K24+C25 -> 315000 | L25: =J25*H25 -> 842.28156 | M25: =L25*B25 -> 340365.98 | N25: =M25-K25 -> 25365.979 | O25: =N25/K25 -> 0.080526919 | P25: =-C25 -> -15000
A26: 44774 | B26: 402.1 | C26: =Feltételezések!$B$5 -> 15000 | D26: =C26*Feltételezések!$B$6 -> 52.5 | E26: =(C26-D26)/B26 -> 37.173589 | F26: =Feltételezések!$B$7 -> 0 | G26: =MAX(E26-F26,0) -> 37.173589 | H26: 6.08 | I26: =G26/H26 -> 6.1140771 | J26: =J25+I26 -> 150.34037 | K26: =K25+C26 -> 330000 | L26: =J26*H26 -> 914.06946 | M26: =L26*B26 -> 367547.33 | N26: =M26-K26 -> 37547.331 | O26: =N26/K26 -> 0.11377979 | P26: =-C26 -> -15000
A27: 44805 | B27: 404.19 | C27: =Feltételezések!$B$5 -> 15000 | D27: =C27*Feltételezések!$B$6 -> 52.5 | E27: =(C27-D27)/B27 -> 36.98137 | F27: =Feltételezések!$B$7 -> 0 | G27: =MAX(E27-F27,0) -> 36.98137 | H27: 5.83 | I27: =G27/H27 -> 6.3432882 | J27: =J26+I27 -> 156.68366 | K27: =K26+C27 -> 345000 | L27: =J27*H27 -> 913.46574 | M27: =L27*B27 -> 369213.72 | N27: =M27-K27 -> 24213.717 | O27: =N27/K27 -> 0.070184687 | P27: =-C27 -> -15000
A28: 44835 | B28: 418.31 | C28: =Feltételezések!$B$5 -> 15000 | D28: =C28*Feltételezések!$B$6 -> 52.5 | E28: =(C28-D28)/B28 -> 35.733069 | F28: =Feltételezések!$B$7 -> 0 | G28: =MAX(E28-F28,0) -> 35.733069 | H28: 5.62 | I28: =G28/H28 -> 6.3581973 | J28: =J27+I28 -> 163.04186 | K28: =K27+C28 -> 360000 | L28: =J28*H28 -> 916.29524 | M28: =L28*B28 -> 383295.46 | N28: =M28-K28 -> 23295.462 | O28: =N28/K28 -> 0.064709615 | P28: =-C28 -> -15000
... A76: 46296 | B76: 363.88 | C76: =Feltételezések!$B$5 -> 15000 | D76: =C76*Feltételezések!$B$6 -> 52.5 | E76: =(C76-D76)/B76 -> 41.078103 | F76: =Feltételezések!$B$7 -> 0 | G76: =MAX(E76-F76,0) -> 41.078103 | H76: 16.3 | I76: =G76/H76 -> 2.520129 | J76: =J75+I76 -> 355.81744 | K76: =K75+C76 -> 1080000 | L76: =J76*H76 -> 5799.8243 | M76: =L76*B76 -> 2110440.1 | N76: =M76-K76 -> 1030440.1 | O76: =N76/K76 -> 0.95411116 | P76: =-C76 -> -15000
A77: =Feltételezések!$B$10 -> 46311 | B77: =Feltételezések!$B$9 -> 363.08 | C77: Mai érték → | H77: 16.53 | J77: =J76 -> 355.81744 | K77: =K76 -> 1080000 | L77: =J77*H77 -> 5881.6623 | M77: =L77*B77 -> 2135513.9 | N77: =M77-K77 -> 1055513.9 | O77: =N77/K77 -> 0.97732772 | P77: =M77 -> 2135513.9

Sheet Modell 84X0
A1: Havi befektetés modell – 84X0 · iShares MSCI EM ex-China UCITS ETF USD (Acc)
A2: Havonta 15 000 Ft befizetés (Feltételezések lap) a Lightyear-en; kék = forrásadat, fekete = képlet.
A4: Hónap | B4: EUR/HUF (havi átlag) | C4: Befizetés (Ft) | D4: Váltási díj (Ft) | E4: Euróra váltva (EUR) | F4: Vételi díj (EUR) | G4: Befektetett (EUR) | H4: ETF árfolyam (EUR) | I4: Vett darab | J4: Összes darab | K4: Összes befizetés (Ft) | L4: Érték (EUR) | M4: Érték (Ft) | N4: Nyereség (Ft) | O4: Hozam % | P4: Pénzáram (XIRR-hez) | R4: Összesítés
A5: 44287 | B5: 360.58 | C5: =Feltételezések!$B$5 -> 15000 | D5: =C5*Feltételezések!$B$6 -> 52.5 | E5: =(C5-D5)/B5 -> 41.454046 | F5: =Feltételezések!$B$7 -> 0 | G5: =MAX(E5-F5,0) -> 41.454046 | H5: 4.18 | I5: =G5/H5 -> 9.9172359 | J5: =I5 -> 9.9172359 | K5: =C5 -> 15000 | L5: =J5*H5 -> 41.454046 | M5: =L5*B5 -> 14947.5 | N5: =M5-K5 -> -52.5 | O5: =N5/K5 -> -0.0035 | P5: =-C5 -> -15000 | R5: Befizetés kezdete | S5: =A5 -> 44287
A6: 44317 | B6: 353.65 | C6: =Feltételezések!$B$5 -> 15000 | D6: =C6*Feltételezések!$B$6 -> 52.5 | E6: =(C6-D6)/B6 -> 42.266365 | F6: =Feltételezések!$B$7 -> 0 | G6: =MAX(E6-F6,0) -> 42.266365 | H6: 4.15 | I6: =G6/H6 -> 10.184666 | J6: =J5+I6 -> 20.101902 | K6: =K5+C6 -> 30000 | L6: =J6*H6 -> 83.422894 | M6: =L6*B6 -> 29502.507 | N6: =M6-K6 -> -497.49346 | O6: =N6/K6 -> -0.016583115 | P6: =-C6 -> -15000 | R6: Befizetett hónapok | S6: =COUNT(C5:C71) -> 67
A7: 44348 | B7: 349.94 | C7: =Feltételezések!$B$5 -> 15000 | D7: =C7*Feltételezések!$B$6 -> 52.5 | E7: =(C7-D7)/B7 -> 42.714465 | F7: =Feltételezések!$B$7 -> 0 | G7: =MAX(E7-F7,0) -> 42.714465 | H7: 4.26 | I7: =G7/H7 -> 10.02687 | J7: =J6+I7 -> 30.128772 | K7: =K6+C7 -> 45000 | L7: =J7*H7 -> 128.34857 | M7: =L7*B7 -> 44914.298 | N7: =M7-K7 -> -85.70183 | O7: =N7/K7 -> -0.0019044851 | P7: =-C7 -> -15000 | R7: Összes befizetés (Ft) | S7: =K72 -> 1005000
A8: 44378 | B8: 357.26 | C8: =Feltételezések!$B$5 -> 15000 | D8: =C8*Feltételezések!$B$6 -> 52.5 | E8: =(C8-D8)/B8 -> 41.839277 | F8: =Feltételezések!$B$7 -> 0 | G8: =MAX(E8-F8,0) -> 41.839277 | H8: 4.35 | I8: =G8/H8 -> 9.6182245 | J8: =J7+I8 -> 39.746997 | K8: =K7+C8 -> 60000 | L8: =J8*H8 -> 172.89944 | M8: =L8*B8 -> 61770.052 | N8: =M8-K8 -> 1770.0522 | O8: =N8/K8 -> 0.029500869 | P8: =-C8 -> -15000 | R8: Mai érték (Ft) | S8: =M72 -> 1574911.2
A9: 44409 | B9: 351.84 | C9: =Feltételezések!$B$5 -> 15000 | D9: =C9*Feltételezések!$B$6 -> 52.5 | E9: =(C9-D9)/B9 -> 42.483799 | F9: =Feltételezések!$B$7 -> 0 | G9: =MAX(E9-F9,0) -> 42.483799 | H9: 4.26 | I9: =G9/H9 -> 9.9727229 | J9: =J8+I9 -> 49.719719 | K9: =K8+C9 -> 75000 | L9: =J9*H9 -> 211.806 | M9: =L9*B9 -> 74521.825 | N9: =M9-K9 -> -478.17528 | O9: =N9/K9 -> -0.0063756704 | P9: =-C9 -> -15000 | R9: Nyereség (Ft) | S9: =N72 -> 569911.25
A10: 44440 | B10: 352.51 | C10: =Feltételezések!$B$5 -> 15000 | D10: =C10*Feltételezések!$B$6 -> 52.5 | E10: =(C10-D10)/B10 -> 42.403052 | F10: =Feltételezések!$B$7 -> 0 | G10: =MAX(E10-F10,0) -> 42.403052 | H10: 4.45 | I10: =G10/H10 -> 9.5287758 | J10: =J9+I10 -> 59.248495 | K10: =K9+C10 -> 90000 | L10: =J10*H10 -> 263.6558 | M10: =L10*B10 -> 92941.307 | N10: =M10-K10 -> 2941.3074 | O10: =N10/K10 -> 0.032681194 | P10: =-C10 -> -15000 | R10: Összes hozam | S10: =O72 -> 0.56707587
A11: 44470 | B11: 360.82 | C11: =Feltételezések!$B$5 -> 15000 | D11: =C11*Feltételezések!$B$6 -> 52.5 | E11: =(C11-D11)/B11 -> 41.426473 | F11: =Feltételezések!$B$7 -> 0 | G11: =MAX(E11-F11,0) -> 41.426473 | H11: 4.35 | I11: =G11/H11 -> 9.5233271 | J11: =J10+I11 -> 68.771822 | K11: =K10+C11 -> 105000 | L11: =J11*H11 -> 299.15743 | M11: =L11*B11 -> 107941.98 | N11: =M11-K11 -> 2941.9829 | O11: =N11/K11 -> 0.028018885 | P11: =-C11 -> -15000 | R11: Éves hozam (XIRR, pénzzel súlyozott) | S11: =XIRR(P5:P72,A5:A72) -> 0.16227635
A12: 44501 | B12: 364.5 | C12: =Feltételezések!$B$5 -> 15000 | D12: =C12*Feltételezések!$B$6 -> 52.5 | E12: =(C12-D12)/B12 -> 41.00823 | F12: =Feltételezések!$B$7 -> 0 | G12: =MAX(E12-F12,0) -> 41.00823 | H12: 4.4 | I12: =G12/H12 -> 9.3200524 | J12: =J11+I12 -> 78.091875 | K12: =K11+C12 -> 120000 | L12: =J12*H12 -> 343.60425 | M12: =L12*B12 -> 125243.75 | N12: =M12-K12 -> 5243.7487 | O12: =N12/K12 -> 0.043697906 | P12: =-C12 -> -15000 | R12: Fizetett díjak összesen (Ft, becslés) | S12: =SUM(D5:D71)+SUMPRODUCT(F5:F71,B5:B71) -> 3517.5
A13: 44531 | B13: 367.5 | C13: =Feltételezések!$B$5 -> 15000 | D13: =C13*Feltételezések!$B$6 -> 52.5 | E13: =(C13-D13)/B13 -> 40.673469 | F13: =Feltételezések!$B$7 -> 0 | G13: =MAX(E13-F13,0) -> 40.673469 | H13: 4.42 | I13: =G13/H13 -> 9.2021424 | J13: =J12+I13 -> 87.294017 | K13: =K12+C13 -> 135000 | L13: =J13*H13 -> 385.83956 | M13: =L13*B13 -> 141796.04 | N13: =M13-K13 -> 6796.0368 | O13: =N13/K13 -> 0.050341013 | P13: =-C13 -> -15000 | R13: Becsült adó, ha most eladnád (Ft) | S13: =MAX(0,N72)*(Feltételezések!$B$11+Feltételezések!$B$12) -> 159575.15
A14: 44562 | B14: 358.68 | C14: =Feltételezések!$B$5 -> 15000 | D14: =C14*Feltételezések!$B$6 -> 52.5 | E14: =(C14-D14)/B14 -> 41.673637 | F14: =Feltételezések!$B$7 -> 0 | G14: =MAX(E14-F14,0) -> 41.673637 | H14: 4.52 | I14: =G14/H14 -> 9.2198311 | J14: =J13+I14 -> 96.513848 | K14: =K13+C14 -> 150000 | L14: =J14*H14 -> 436.24259 | M14: =L14*B14 -> 156471.49 | N14: =M14-K14 -> 6471.4937 | O14: =N14/K14 -> 0.043143291 | P14: =-C14 -> -15000 | R14: Adózás utáni nyereség (Ft) | S14: =N72-S13 -> 410336.1
A15: 44593 | B15: 356.97 | C15: =Feltételezések!$B$5 -> 15000 | D15: =C15*Feltételezések!$B$6 -> 52.5 | E15: =(C15-D15)/B15 -> 41.873267 | F15: =Feltételezések!$B$7 -> 0 | G15: =MAX(E15-F15,0) -> 41.873267 | H15: 4.54 | I15: =G15/H15 -> 9.2231865 | J15: =J14+I15 -> 105.73703 | K15: =K14+C15 -> 165000 | L15: =J15*H15 -> 480.04614 | M15: =L15*B15 -> 171362.07 | N15: =M15-K15 -> 6362.0698 | O15: =N15/K15 -> 0.038557999 | P15: =-C15 -> -15000 | R15: Legjobb hónap végi érték (Ft) | S15: =MAX(M5:M72) -> 1680276.9
A16: 44621 | B16: 376.64 | C16: =Feltételezések!$B$5 -> 15000 | D16: =C16*Feltételezések!$B$6 -> 52.5 | E16: =(C16-D16)/B16 -> 39.686438 | F16: =Feltételezések!$B$7 -> 0 | G16: =MAX(E16-F16,0) -> 39.686438 | H16: 4.41 | I16: =G16/H16 -> 8.9991923 | J16: =J15+I16 -> 114.73623 | K16: =K15+C16 -> 180000 | L16: =J16*H16 -> 505.98676 | M16: =L16*B16 -> 190574.85 | N16: =M16-K16 -> 10574.854 | O16: =N16/K16 -> 0.058749188 | P16: =-C16 -> -15000 | R16: Legnagyobb papírveszteség (Ft) | S16: =MIN(N5:N72) -> -31514.221
A17: 44652 | B17: 374.87 | C17: =Feltételezések!$B$5 -> 15000 | D17: =C17*Feltételezések!$B$6 -> 52.5 | E17: =(C17-D17)/B17 -> 39.873823 | F17: =Feltételezések!$B$7 -> 0 | G17: =MAX(E17-F17,0) -> 39.873823 | H17: 4.49 | I17: =G17/H17 -> 8.8805842 | J17: =J16+I17 -> 123.61681 | K17: =K16+C17 -> 195000 | L17: =J17*H17 -> 555.03948 | M17: =L17*B17 -> 208067.65 | N17: =M17-K17 -> 13067.651 | O17: =N17/K17 -> 0.067013594 | P17: =-C17 -> -15000
A18: 44682 | B18: 384.45 | C18: =Feltételezések!$B$5 -> 15000 | D18: =C18*Feltételezések!$B$6 -> 52.5 | E18: =(C18-D18)/B18 -> 38.880218 | F18: =Feltételezések!$B$7 -> 0 | G18: =MAX(E18-F18,0) -> 38.880218 | H18: 4.41 | I18: =G18/H18 -> 8.8163761 | J18: =J17+I18 -> 132.43319 | K18: =K17+C18 -> 210000 | L18: =J18*H18 -> 584.03036 | M18: =L18*B18 -> 224530.47 | N18: =M18-K18 -> 14530.47 | O18: =N18/K18 -> 0.069192716 | P18: =-C18 -> -15000
A19: 44713 | B19: 396.66 | C19: =Feltételezések!$B$5 -> 15000 | D19: =C19*Feltételezések!$B$6 -> 52.5 | E19: =(C19-D19)/B19 -> 37.683406 | F19: =Feltételezések!$B$7 -> 0 | G19: =MAX(E19-F19,0) -> 37.683406 | H19: 4.29 | I19: =G19/H19 -> 8.7840108 | J19: =J18+I19 -> 141.2172 | K19: =K18+C19 -> 225000 | L19: =J19*H19 -> 605.82178 | M19: =L19*B19 -> 240305.27 | N19: =M19-K19 -> 15305.267 | O19: =N19/K19 -> 0.06802341 | P19: =-C19 -> -15000
A20: 44743 | B20: 404.1 | C20: =Feltételezések!$B$5 -> 15000 | D20: =C20*Feltételezések!$B$6 -> 52.5 | E20: =(C20-D20)/B20 -> 36.989607 | F20: =Feltételezések!$B$7 -> 0 | G20: =MAX(E20-F20,0) -> 36.989607 | H20: 3.86 | I20: =G20/H20 -> 9.5827996 | J20: =J19+I20 -> 150.8 | K20: =K19+C20 -> 240000 | L20: =J20*H20 -> 582.08799 | M20: =L20*B20 -> 235221.76 | N20: =M20-K20 -> -4778.2427 | O20: =N20/K20 -> -0.019909345 | P20: =-C20 -> -15000
A21: 44774 | B21: 402.1 | C21: =Feltételezések!$B$5 -> 15000 | D21: =C21*Feltételezések!$B$6 -> 52.5 | E21: =(C21-D21)/B21 -> 37.173589 | F21: =Feltételezések!$B$7 -> 0 | G21: =MAX(E21-F21,0) -> 37.173589 | H21: 4.18 | I21: =G21/H21 -> 8.893203 | J21: =J20+I21 -> 159.6932 | K21: =K20+C21 -> 255000 | L21: =J21*H21 -> 667.51758 | M21: =L21*B21 -> 268408.82 | N21: =M21-K21 -> 13408.819 | O21: =N21/K21 -> 0.052583602 | P21: =-C21 -> -15000
A22: 44805 | B22: 404.19 | C22: =Feltételezések!$B$5 -> 15000 | D22: =C22*Feltételezések!$B$6 -> 52.5 | E22: =(C22-D22)/B22 -> 36.98137 | F22: =Feltételezések!$B$7 -> 0 | G22: =MAX(E22-F22,0) -> 36.98137 | H22: 4.2 | I22: =G22/H22 -> 8.8050881 | J22: =J21+I22 -> 168.49829 | K22: =K21+C22 -> 270000 | L22: =J22*H22 -> 707.69281 | M22: =L22*B22 -> 286042.36 | N22: =M22-K22 -> 16042.358 | O22: =N22/K22 -> 0.059416142 | P22: =-C22 -> -15000
A23: 44835 | B23: 418.31 | C23: =Feltételezések!$B$5 -> 15000 | D23: =C23*Feltételezések!$B$6 -> 52.5 | E23: =(C23-D23)/B23 -> 35.733069 | F23: =Feltételezések!$B$7 -> 0 | G23: =MAX(E23-F23,0) -> 35.733069 | H23: 3.94 | I23: =G23/H23 -> 9.0693068 | J23: =J22+I23 -> 177.5676 | K23: =K22+C23 -> 285000 | L23: =J23*H23 -> 699.61633 | M23: =L23*B23 -> 292656.51 | N23: =M23-K23 -> 7656.5058 | O23: =N23/K23 -> 0.026864933 | P23: =-C23 -> -15000
A24: 44866 | B24: 406.68 | C24: =Feltételezések!$B$5 -> 15000 | D24: =C24*Feltételezések!$B$6 -> 52.5 | E24: =(C24-D24)/B24 -> 36.754942 | F24: =Feltételezések!$B$7 -> 0 | G24: =MAX(E24-F24,0) -> 36.754942 | H24: 4.01 | I24: =G24/H24 -> 9.1658211 | J24: =J23+I24 -> 186.73342 | K24: =K23+C24 -> 300000 | L24: =J24*H24 -> 748.801 | M24: =L24*B24 -> 304522.39 | N24: =M24-K24 -> 4522.3912 | O24: =N24/K24 -> 0.015074637 | P24: =-C24 -> -15000
A25: 44896 | B25: 407.68 | C25: =Feltételezések!$B$5 -> 15000 | D25: =C25*Feltételezések!$B$6 -> 52.5 | E25: =(C25-D25)/B25 -> 36.664786 | F25: =Feltételezések!$B$7 -> 0 | G25: =MAX(E25-F25,0) -> 36.664786 | H25: 4.16 | I25: =G25/H25 -> 8.8136505 | J25: =J24+I25 -> 195.54707 | K25: =K24+C25 -> 315000 | L25: =J25*H25 -> 813.4758 | M25: =L25*B25 -> 331637.81 | N25: =M25-K25 -> 16637.814 | O25: =N25/K25 -> 0.052818457 | P25: =-C25 -> -15000
A26: 44927 | B26: 396.03 | C26: =Feltételezések!$B$5 -> 15000 | D26: =C26*Feltételezések!$B$6 -> 52.5 | E26: =(C26-D26)/B26 -> 37.743353 | F26: =Feltételezések!$B$7 -> 0 | G26: =MAX(E26-F26,0) -> 37.743353 | H26: 3.88 | I26: =G26/H26 -> 9.7276682 | J26: =J25+I26 -> 205.27474 | K26: =K25+C26 -> 330000 | L26: =J26*H26 -> 796.46597 | M26: =L26*B26 -> 315424.42 | N26: =M26-K26 -> -14575.58 | O26: =N26/K26 -> -0.044168425 | P26: =-C26 -> -15000
A27: 44958 | B27: 384.91 | C27: =Feltételezések!$B$5 -> 15000 | D27: =C27*Feltételezések!$B$6 -> 52.5 | E27: =(C27-D27)/B27 -> 38.833753 | F27: =Feltételezések!$B$7 -> 0 | G27: =MAX(E27-F27,0) -> 38.833753 | H27: 4.06 | I27: =G27/H27 -> 9.5649639 | J27: =J26+I27 -> 214.8397 | K27: =K26+C27 -> 345000 | L27: =J27*H27 -> 872.24918 | M27: =L27*B27 -> 335737.43 | N27: =M27-K27 -> -9262.5683 | O27: =N27/K27 -> -0.026848024 | P27: =-C27 -> -15000
A28: 44986 | B28: 385.01 | C28: =Feltételezések!$B$5 -> 15000 | D28: =C28*Feltételezések!$B$6 -> 52.5 | E28: =(C28-D28)/B28 -> 38.823667 | F28: =Feltételezések!$B$7 -> 0 | G28: =MAX(E28-F28,0) -> 38.823667 | H28: 3.96 | I28: =G28/H28 -> 9.8039563 | J28: =J27+I28 -> 224.64366 | K28: =K27+C28 -> 360000 | L28: =J28*H28 -> 889.58888 | M28: =L28*B28 -> 342500.61 | N28: =M28-K28 -> -17499.387 | O28: =N28/K28 -> -0.048609407 | P28: =-C28 -> -15000
... A71: 46296 | B71: 363.88 | C71: =Feltételezések!$B$5 -> 15000 | D71: =C71*Feltételezések!$B$6 -> 52.5 | E71: =(C71-D71)/B71 -> 41.078103 | F71: =Feltételezések!$B$7 -> 0 | G71: =MAX(E71-F71,0) -> 41.078103 | H71: 8.41 | I71: =G71/H71 -> 4.8844355 | J71: =J70+I71 -> 549.06867 | K71: =K70+C71 -> 1005000 | L71: =J71*H71 -> 4617.6676 | M71: =L71*B71 -> 1680276.9 | N71: =M71-K71 -> 675276.87 | O71: =N71/K71 -> 0.67191728 | P71: =-C71 -> -15000
A72: =Feltételezések!$B$10 -> 46311 | B72: =Feltételezések!$B$9 -> 363.08 | C72: Mai érték → | H72: 7.9 | J72: =J71 -> 549.06867 | K72: =K71 -> 1005000 | L72: =J72*H72 -> 4337.6425 | M72: =L72*B72 -> 1574911.2 | N72: =M72-K72 -> 569911.25 | O72: =N72/K72 -> 0.56707587 | P72: =M72 -> 1574911.2

Sheet Modell BRNT
A1: Havi befektetés modell – BRNT · WisdomTree Brent Crude Oil
A2: Havonta 15 000 Ft befizetés (Feltételezések lap) a Lightyear-en; kék = forrásadat, fekete = képlet.
